BEGIN:VCALENDAR
PRODID:-//hacksw/handcal//NONSGML v1.0//EN
BEGIN:VEVENT
DTSTART;TZID=America/New_York:20140618T183000
DTEND;TZID=America/New_York:20140618T193000
LOCATION:Normandy Farm Hotel, 1401 Morris Road, Blue Bell, PA, 19422,
SUMMARY:Paterno 409 Art Presentation Gala
DESCRIPTION:Celebrating success with honor including Dinner at Normandy Farm Hotel
METHOD:PUBLISH
END:VEVENT
END:VCALENDAR
